BEGIN:VCALENDAR
VERSION:2.0
PRODID:-//Asian Pacific Partners for Empowerment, Advocacy and Leadership - ECPv6.6.4.2//NONSGML v1.0//EN
CALSCALE:GREGORIAN
METHOD:PUBLISH
X-ORIGINAL-URL:https://appealforhealth.org
X-WR-CALDESC:Events for Asian Pacific Partners for Empowerment, Advocacy and Leadership
REFRESH-INTERVAL;VALUE=DURATION:PT1H
X-Robots-Tag:noindex
X-PUBLISHED-TTL:PT1H
BEGIN:VTIMEZONE
TZID:America/Los_Angeles
BEGIN:DAYLIGHT
TZOFFSETFROM:-0800
TZOFFSETTO:-0700
TZNAME:PDT
DTSTART:20250309T100000
END:DAYLIGHT
BEGIN:STANDARD
TZOFFSETFROM:-0700
TZOFFSETTO:-0800
TZNAME:PST
DTSTART:20251102T090000
END:STANDARD
END:VTIMEZONE
BEGIN:VEVENT
DTSTART;VALUE=DATE:20250623
DTEND;VALUE=DATE:20250628
DTSTAMP:20260424T025941
CREATED:20250507T161629Z
LAST-MODIFIED:20250507T161629Z
UID:10068-1750636800-1751068799@appealforhealth.org
SUMMARY:APPEAL Leadership Summit\, Gala and Conference June 23rd-June 27th
DESCRIPTION:
URL:https://appealforhealth.org/event/appeal-leadership-summit-gala-and-conference-june-23rd-june-27th/
LOCATION:Hilton San Francisco Financial District\, 750 Kearny Street\, San Francisco\, CA\, 94108\, United States
END:VEVENT
END:VCALENDAR